BEGIN:VCALENDAR
VERSION:2.0
PRODID:-//Beacon Community Impact - ECPv5.5.0.1//NONSGML v1.0//EN
CALSCALE:GREGORIAN
METHOD:PUBLISH
X-WR-CALNAME:Beacon Community Impact
X-ORIGINAL-URL:https://impact.beaconhealthsystem.org
X-WR-CALDESC:Events for Beacon Community Impact
BEGIN:VTIMEZONE
TZID:UTC
BEGIN:STANDARD
TZOFFSETFROM:+0000
TZOFFSETTO:+0000
TZNAME:UTC
DTSTART:20210101T000000
END:STANDARD
END:VTIMEZONE
BEGIN:VEVENT
DTSTART;TZID=UTC:20210924T160000
DTEND;TZID=UTC:20210924T190000
DTSTAMP:20260420T102958
CREATED:20210907T195306Z
LAST-MODIFIED:20210907T195306Z
UID:32778-1632499200-1632510000@impact.beaconhealthsystem.org
SUMMARY:Elkhart Community Block Party
DESCRIPTION:Join us for a free event celebrating the Elkhart Community! There will be free food\, games\, activities\, music\, prizes\, and an opportunity to learn about free or low cost services available in Elkhart County.\n\nThere will also be an opportunity to tour the community space available for use for free at the Elkhart Health and Aquatics Center including access to a basketball court\, pickleball court\, badminton\, open swim on Fridays and Sundays\, fitness programming\, and more.\n\nMasks required at all times in this facility\, regardless of vaccination status.
URL:https://impact.beaconhealthsystem.org/event/elkhart-block-party/
ATTACH;FMTTYPE=image/jpeg:https://impact.beaconhealthsystem.org/wp-content/uploads/2021/09/221467282_873889480218939_4170051645656414447_n.jpg
END:VEVENT
END:VCALENDAR